BEGIN:VCALENDAR
VERSION:2.0
PRODID:-//École doctorale HISTAR - ECPv6.15.20//NONSGML v1.0//EN
CALSCALE:GREGORIAN
METHOD:PUBLISH
X-WR-CALNAME:École doctorale HISTAR
X-ORIGINAL-URL:https://www.histar.be
X-WR-CALDESC:Évènements pour École doctorale HISTAR
REFRESH-INTERVAL;VALUE=DURATION:PT1H
X-Robots-Tag:noindex
X-PUBLISHED-TTL:PT1H
BEGIN:VTIMEZONE
TZID:Europe/Paris
BEGIN:DAYLIGHT
TZOFFSETFROM:+0100
TZOFFSETTO:+0200
TZNAME:CEST
DTSTART:20230326T010000
END:DAYLIGHT
BEGIN:STANDARD
TZOFFSETFROM:+0200
TZOFFSETTO:+0100
TZNAME:CET
DTSTART:20231029T010000
END:STANDARD
BEGIN:DAYLIGHT
TZOFFSETFROM:+0100
TZOFFSETTO:+0200
TZNAME:CEST
DTSTART:20240331T010000
END:DAYLIGHT
BEGIN:STANDARD
TZOFFSETFROM:+0200
TZOFFSETTO:+0100
TZNAME:CET
DTSTART:20241027T010000
END:STANDARD
BEGIN:DAYLIGHT
TZOFFSETFROM:+0100
TZOFFSETTO:+0200
TZNAME:CEST
DTSTART:20250330T010000
END:DAYLIGHT
BEGIN:STANDARD
TZOFFSETFROM:+0200
TZOFFSETTO:+0100
TZNAME:CET
DTSTART:20251026T010000
END:STANDARD
END:VTIMEZONE
BEGIN:VEVENT
DTSTART;VALUE=DATE:20240914
DTEND;VALUE=DATE:20240915
DTSTAMP:20260426T021308
CREATED:20240806T074917Z
LAST-MODIFIED:20240806T074926Z
UID:7619-1726272000-1726358399@www.histar.be
SUMMARY:Début du premier quadrimestre 2024-2025
DESCRIPTION:
URL:https://www.histar.be/event/debut-du-premier-quadrimestre-2024-2025/
CATEGORIES:Formation commune,Module Antiquité,Module Archéologie et Archéométrie,Module Époque Contemporaine,Module Histoire des Arts,Module Moyen Âge,Module Musicologie,Module Pouvoir et Régulation,Module Temps Modernes
END:VEVENT
BEGIN:VEVENT
DTSTART;VALUE=DATE:20240916
DTEND;VALUE=DATE:20240917
DTSTAMP:20260426T021308
CREATED:20240806T075003Z
LAST-MODIFIED:20240806T075003Z
UID:7621-1726444800-1726531199@www.histar.be
SUMMARY:Rentrée académique
DESCRIPTION:
URL:https://www.histar.be/event/rentree-academique/
CATEGORIES:Formation commune,Module Antiquité,Module Archéologie et Archéométrie,Module Époque Contemporaine,Module Histoire des Arts,Module Moyen Âge,Module Musicologie,Module Pouvoir et Régulation,Module Temps Modernes
END:VEVENT
END:VCALENDAR